BEGIN:VCALENDAR
VERSION:2.0
PRODID:-//Pin City STL - ECPv6.15.20//NONSGML v1.0//EN
CALSCALE:GREGORIAN
METHOD:PUBLISH
X-ORIGINAL-URL:https://pincitystl.com
X-WR-CALDESC:Events for Pin City STL
REFRESH-INTERVAL;VALUE=DURATION:PT1H
X-Robots-Tag:noindex
X-PUBLISHED-TTL:PT1H
BEGIN:VTIMEZONE
TZID:America/Chicago
BEGIN:DAYLIGHT
TZOFFSETFROM:-0600
TZOFFSETTO:-0500
TZNAME:CDT
DTSTART:20250309T080000
END:DAYLIGHT
BEGIN:STANDARD
TZOFFSETFROM:-0500
TZOFFSETTO:-0600
TZNAME:CST
DTSTART:20251102T070000
END:STANDARD
BEGIN:DAYLIGHT
TZOFFSETFROM:-0600
TZOFFSETTO:-0500
TZNAME:CDT
DTSTART:20260308T080000
END:DAYLIGHT
BEGIN:STANDARD
TZOFFSETFROM:-0500
TZOFFSETTO:-0600
TZNAME:CST
DTSTART:20261101T070000
END:STANDARD
BEGIN:DAYLIGHT
TZOFFSETFROM:-0600
TZOFFSETTO:-0500
TZNAME:CDT
DTSTART:20270314T080000
END:DAYLIGHT
BEGIN:STANDARD
TZOFFSETFROM:-0500
TZOFFSETTO:-0600
TZNAME:CST
DTSTART:20271107T070000
END:STANDARD
END:VTIMEZONE
BEGIN:VEVENT
DTSTART;TZID=America/Chicago:20260603T190000
DTEND;TZID=America/Chicago:20260603T235900
DTSTAMP:20260420T182103
CREATED:20260419T030004Z
LAST-MODIFIED:20260419T160106Z
UID:4040-1780513200-1780531140@pincitystl.com
SUMMARY:Lazarus Summer League
DESCRIPTION:This is the same style league as the last one. We are running an 8 week league playing 5 games each week. We will use the same SLAP format as the others in St Louis area use. Top half in each division will go to playoffs. \nPinball Machines
URL:https://pincitystl.com/event/114854/
LOCATION:The Lazarus Pinball Museum\, 26 Western Plaza\, Fenton\, MO\, 63026\, United States
ATTACH;FMTTYPE=image/webp:https://pincitystl.com/wp-content/uploads/2026/02/Lazarus.webp
END:VEVENT
END:VCALENDAR