BEGIN:VCALENDAR
VERSION:2.0
PRODID:-//Pin City STL - ECPv6.15.20//NONSGML v1.0//EN
CALSCALE:GREGORIAN
METHOD:PUBLISH
X-ORIGINAL-URL:https://pincitystl.com
X-WR-CALDESC:Events for Pin City STL
REFRESH-INTERVAL;VALUE=DURATION:PT1H
X-Robots-Tag:noindex
X-PUBLISHED-TTL:PT1H
BEGIN:VTIMEZONE
TZID:America/Chicago
BEGIN:DAYLIGHT
TZOFFSETFROM:-0600
TZOFFSETTO:-0500
TZNAME:CDT
DTSTART:20250309T080000
END:DAYLIGHT
BEGIN:STANDARD
TZOFFSETFROM:-0500
TZOFFSETTO:-0600
TZNAME:CST
DTSTART:20251102T070000
END:STANDARD
BEGIN:DAYLIGHT
TZOFFSETFROM:-0600
TZOFFSETTO:-0500
TZNAME:CDT
DTSTART:20260308T080000
END:DAYLIGHT
BEGIN:STANDARD
TZOFFSETFROM:-0500
TZOFFSETTO:-0600
TZNAME:CST
DTSTART:20261101T070000
END:STANDARD
BEGIN:DAYLIGHT
TZOFFSETFROM:-0600
TZOFFSETTO:-0500
TZNAME:CDT
DTSTART:20270314T080000
END:DAYLIGHT
BEGIN:STANDARD
TZOFFSETFROM:-0500
TZOFFSETTO:-0600
TZNAME:CST
DTSTART:20271107T070000
END:STANDARD
END:VTIMEZONE
BEGIN:VEVENT
DTSTART;TZID=America/Chicago:20260917T190000
DTEND;TZID=America/Chicago:20260917T235900
DTSTAMP:20260420T233404
CREATED:20251223T105326Z
LAST-MODIFIED:20260216T222849Z
UID:3257-1789671600-1789689540@pincitystl.com
SUMMARY:Murphy's Fall '26 Thursday League (8 Weeks)
DESCRIPTION:8 week league with 4 games played per night using FSPAZone.org Ruleset\, followed by playoffs/finals in week 9. Limited to 60 players. No league play on October 15\, 2026 due to Pinball Expo. \nPinball Machines
URL:https://pincitystl.com/event/106592/
LOCATION:Murphy’s on 21\, 13226 Tesson Ferry Rd\, St. Louis\, 63128\, United States
ATTACH;FMTTYPE=image/webp:https://pincitystl.com/wp-content/uploads/2025/12/MurphysLeague.webp
END:VEVENT
END:VCALENDAR