BEGIN:VCALENDAR
VERSION:2.0
PRODID:-//Pin City STL - ECPv6.15.20//NONSGML v1.0//EN
CALSCALE:GREGORIAN
METHOD:PUBLISH
X-WR-CALNAME:Pin City STL
X-ORIGINAL-URL:https://pincitystl.com
X-WR-CALDESC:Events for Pin City STL
REFRESH-INTERVAL;VALUE=DURATION:PT1H
X-Robots-Tag:noindex
X-PUBLISHED-TTL:PT1H
BEGIN:VTIMEZONE
TZID:America/Chicago
BEGIN:DAYLIGHT
TZOFFSETFROM:-0600
TZOFFSETTO:-0500
TZNAME:CDT
DTSTART:20250309T080000
END:DAYLIGHT
BEGIN:STANDARD
TZOFFSETFROM:-0500
TZOFFSETTO:-0600
TZNAME:CST
DTSTART:20251102T070000
END:STANDARD
BEGIN:DAYLIGHT
TZOFFSETFROM:-0600
TZOFFSETTO:-0500
TZNAME:CDT
DTSTART:20260308T080000
END:DAYLIGHT
BEGIN:STANDARD
TZOFFSETFROM:-0500
TZOFFSETTO:-0600
TZNAME:CST
DTSTART:20261101T070000
END:STANDARD
BEGIN:DAYLIGHT
TZOFFSETFROM:-0600
TZOFFSETTO:-0500
TZNAME:CDT
DTSTART:20270314T080000
END:DAYLIGHT
BEGIN:STANDARD
TZOFFSETFROM:-0500
TZOFFSETTO:-0600
TZNAME:CST
DTSTART:20271107T070000
END:STANDARD
END:VTIMEZONE
BEGIN:VEVENT
DTSTART;TZID=America/Chicago:20260401T190000
DTEND;TZID=America/Chicago:20260401T235900
DTSTAMP:20260420T162803
CREATED:20260301T030002Z
LAST-MODIFIED:20260302T191032Z
UID:3688-1775070000-1775087940@pincitystl.com
SUMMARY:Two Plumbers Spring 2026
DESCRIPTION:10 week season league starting Wednesday 4/1/26 with four games played each night head to head in 3 or 4 player groups using the FSPA league rule format\, followed by division playoffs/end of season party week 11 on 6/10/26\, given no inclement weather. We welcome all skill levels! \nFacebook event:\nhttps://www.facebook.com/events/2087938481988858/2087938485322191?acontext=%7B%22event_action_history%22%3A[%7B%22mechanism%22%3A%22attachment%22%2C%22surface%22%3A%22newsfeed%22%7D]%2C%22ref_notif_type%22%3Anull%7D \nPinball Machines
URL:https://pincitystl.com/event/112638/
LOCATION:Two Plumbers Brewery + Arcade\, 745 Friedens Road St\, St. Charles\, MO\, 63303\, United States
ATTACH;FMTTYPE=image/jpeg:https://pincitystl.com/wp-content/uploads/2026/03/two-plumbers.jpg
END:VEVENT
END:VCALENDAR