BEGIN:VCALENDAR
VERSION:2.0
PRODID:-//Pin City STL - ECPv6.15.20//NONSGML v1.0//EN
CALSCALE:GREGORIAN
METHOD:PUBLISH
X-WR-CALNAME:Pin City STL
X-ORIGINAL-URL:https://pincitystl.com
X-WR-CALDESC:Events for Pin City STL
REFRESH-INTERVAL;VALUE=DURATION:PT1H
X-Robots-Tag:noindex
X-PUBLISHED-TTL:PT1H
BEGIN:VTIMEZONE
TZID:America/Chicago
BEGIN:DAYLIGHT
TZOFFSETFROM:-0600
TZOFFSETTO:-0500
TZNAME:CDT
DTSTART:20250309T080000
END:DAYLIGHT
BEGIN:STANDARD
TZOFFSETFROM:-0500
TZOFFSETTO:-0600
TZNAME:CST
DTSTART:20251102T070000
END:STANDARD
BEGIN:DAYLIGHT
TZOFFSETFROM:-0600
TZOFFSETTO:-0500
TZNAME:CDT
DTSTART:20260308T080000
END:DAYLIGHT
BEGIN:STANDARD
TZOFFSETFROM:-0500
TZOFFSETTO:-0600
TZNAME:CST
DTSTART:20261101T070000
END:STANDARD
BEGIN:DAYLIGHT
TZOFFSETFROM:-0600
TZOFFSETTO:-0500
TZNAME:CDT
DTSTART:20270314T080000
END:DAYLIGHT
BEGIN:STANDARD
TZOFFSETFROM:-0500
TZOFFSETTO:-0600
TZNAME:CST
DTSTART:20271107T070000
END:STANDARD
END:VTIMEZONE
BEGIN:VEVENT
DTSTART;TZID=America/Chicago:20260402T190000
DTEND;TZID=America/Chicago:20260402T235900
DTSTAMP:20260420T164712
CREATED:20251223T105326Z
LAST-MODIFIED:20260216T223009Z
UID:3249-1775156400-1775174340@pincitystl.com
SUMMARY:Murphy's Spring '26 Thursday League (10 Weeks)
DESCRIPTION:10 week league with 4 games played per night using FSPAZone.org Ruleset\, followed by playoffs/finals in week 11. Limited to 60 players. \nPinball Machines
URL:https://pincitystl.com/event/106590/
LOCATION:Murphy’s on 21\, 13226 Tesson Ferry Rd\, St. Louis\, 63128\, United States
ATTACH;FMTTYPE=image/webp:https://pincitystl.com/wp-content/uploads/2025/12/MurphysLeague.webp
END:VEVENT
END:VCALENDAR