BEGIN:VCALENDAR
VERSION:2.0
PRODID:-//Pin City STL - ECPv6.15.20//NONSGML v1.0//EN
CALSCALE:GREGORIAN
METHOD:PUBLISH
X-WR-CALNAME:Pin City STL
X-ORIGINAL-URL:https://pincitystl.com
X-WR-CALDESC:Events for Pin City STL
REFRESH-INTERVAL;VALUE=DURATION:PT1H
X-Robots-Tag:noindex
X-PUBLISHED-TTL:PT1H
BEGIN:VTIMEZONE
TZID:America/Chicago
BEGIN:DAYLIGHT
TZOFFSETFROM:-0600
TZOFFSETTO:-0500
TZNAME:CDT
DTSTART:20250309T080000
END:DAYLIGHT
BEGIN:STANDARD
TZOFFSETFROM:-0500
TZOFFSETTO:-0600
TZNAME:CST
DTSTART:20251102T070000
END:STANDARD
BEGIN:DAYLIGHT
TZOFFSETFROM:-0600
TZOFFSETTO:-0500
TZNAME:CDT
DTSTART:20260308T080000
END:DAYLIGHT
BEGIN:STANDARD
TZOFFSETFROM:-0500
TZOFFSETTO:-0600
TZNAME:CST
DTSTART:20261101T070000
END:STANDARD
BEGIN:DAYLIGHT
TZOFFSETFROM:-0600
TZOFFSETTO:-0500
TZNAME:CDT
DTSTART:20270314T080000
END:DAYLIGHT
BEGIN:STANDARD
TZOFFSETFROM:-0500
TZOFFSETTO:-0600
TZNAME:CST
DTSTART:20271107T070000
END:STANDARD
END:VTIMEZONE
BEGIN:VEVENT
DTSTART;TZID=America/Chicago:20260413T000000
DTEND;TZID=America/Chicago:20260413T235959
DTSTAMP:20260420T162718
CREATED:20260326T030004Z
LAST-MODIFIED:20260330T190056Z
UID:3999-1776038400-1776124799@pincitystl.com
SUMMARY:SLAP-Red Fish Blue Fish 2026 Spring League
DESCRIPTION:Start Date: Apr\,13\,2026\nEnd Date: Jun 15\, 2026 \nWe will be starting our summer league on Apr 13\, 2026. It is $40 for the 10 weeks of league play. Playoffs will be on June 22 2026. \nWe use the FSPA Qualifying Ladder Format which can be found at http://fspazone.org/format-qualifying-ladder/. \nTwo weeks of random groups or 3-4 players playing 4 games per week. Week 3 groups are based on total points. Players then move up and down the ladder based on their performance. We typically have 3-4 divisions which are locked after week 8. After week 10 we will have playoffs for the top 4-5 in each division depending on number of total players. \nPinball Machines
URL:https://pincitystl.com/event/113812/
LOCATION:Red Fish Blue Fish\, 7 Hawks Nest Plaza\, St. Charles\, MO\, 63303\, United States
ATTACH;FMTTYPE=image/webp:https://pincitystl.com/wp-content/uploads/2026/02/SLAP_generic.webp
END:VEVENT
END:VCALENDAR