BEGIN:VCALENDAR
VERSION:2.0
PRODID:-//Pin City STL - ECPv6.15.20//NONSGML v1.0//EN
CALSCALE:GREGORIAN
METHOD:PUBLISH
X-WR-CALNAME:Pin City STL
X-ORIGINAL-URL:https://pincitystl.com
X-WR-CALDESC:Events for Pin City STL
REFRESH-INTERVAL;VALUE=DURATION:PT1H
X-Robots-Tag:noindex
X-PUBLISHED-TTL:PT1H
BEGIN:VTIMEZONE
TZID:America/Chicago
BEGIN:DAYLIGHT
TZOFFSETFROM:-0600
TZOFFSETTO:-0500
TZNAME:CDT
DTSTART:20250309T080000
END:DAYLIGHT
BEGIN:STANDARD
TZOFFSETFROM:-0500
TZOFFSETTO:-0600
TZNAME:CST
DTSTART:20251102T070000
END:STANDARD
BEGIN:DAYLIGHT
TZOFFSETFROM:-0600
TZOFFSETTO:-0500
TZNAME:CDT
DTSTART:20260308T080000
END:DAYLIGHT
BEGIN:STANDARD
TZOFFSETFROM:-0500
TZOFFSETTO:-0600
TZNAME:CST
DTSTART:20261101T070000
END:STANDARD
BEGIN:DAYLIGHT
TZOFFSETFROM:-0600
TZOFFSETTO:-0500
TZNAME:CDT
DTSTART:20270314T080000
END:DAYLIGHT
BEGIN:STANDARD
TZOFFSETFROM:-0500
TZOFFSETTO:-0600
TZNAME:CST
DTSTART:20271107T070000
END:STANDARD
END:VTIMEZONE
BEGIN:VEVENT
DTSTART;TZID=America/Chicago:20260426T150000
DTEND;TZID=America/Chicago:20260426T235900
DTSTAMP:20260420T162811
CREATED:20260408T030003Z
LAST-MODIFIED:20260418T153303Z
UID:4024-1777215600-1777247940@pincitystl.com
SUMMARY:Mead Hall - Spring League
DESCRIPTION:9 week league. 8 weeks + 1 finals week.\nEach week will be 3 or 4 player group match play (7\, 5\, 3\, 1) scoring on 4 random machines against 2 or 3 random players and is like one “4 game round” of a tournament and will be run on Match Play\nThe first 3 weeks will be random play. Weeks 4-8 you will be paired against players with similar points as you. There are no division ladders. \n  \nPinball Machines
URL:https://pincitystl.com/event/114376/
LOCATION:Mead Hall / Swarm Brewing Company\, 2236 1st Capitol Dr\, St. Charles\, MO\, 63301\, United States
ATTACH;FMTTYPE=image/webp:https://pincitystl.com/wp-content/uploads/2026/04/mead-hall.webp
END:VEVENT
END:VCALENDAR