BEGIN:VCALENDAR
VERSION:2.0
PRODID:-//Pin City STL - ECPv6.15.20//NONSGML v1.0//EN
CALSCALE:GREGORIAN
METHOD:PUBLISH
X-WR-CALNAME:Pin City STL
X-ORIGINAL-URL:https://pincitystl.com
X-WR-CALDESC:Events for Pin City STL
REFRESH-INTERVAL;VALUE=DURATION:PT1H
X-Robots-Tag:noindex
X-PUBLISHED-TTL:PT1H
BEGIN:VTIMEZONE
TZID:America/Chicago
BEGIN:DAYLIGHT
TZOFFSETFROM:-0600
TZOFFSETTO:-0500
TZNAME:CDT
DTSTART:20250309T080000
END:DAYLIGHT
BEGIN:STANDARD
TZOFFSETFROM:-0500
TZOFFSETTO:-0600
TZNAME:CST
DTSTART:20251102T070000
END:STANDARD
BEGIN:DAYLIGHT
TZOFFSETFROM:-0600
TZOFFSETTO:-0500
TZNAME:CDT
DTSTART:20260308T080000
END:DAYLIGHT
BEGIN:STANDARD
TZOFFSETFROM:-0500
TZOFFSETTO:-0600
TZNAME:CST
DTSTART:20261101T070000
END:STANDARD
BEGIN:DAYLIGHT
TZOFFSETFROM:-0600
TZOFFSETTO:-0500
TZNAME:CDT
DTSTART:20270314T080000
END:DAYLIGHT
BEGIN:STANDARD
TZOFFSETFROM:-0500
TZOFFSETTO:-0600
TZNAME:CST
DTSTART:20271107T070000
END:STANDARD
END:VTIMEZONE
BEGIN:VEVENT
DTSTART;TZID=America/Chicago:20260506T190000
DTEND;TZID=America/Chicago:20260506T235900
DTSTAMP:20260420T181954
CREATED:20260403T030004Z
LAST-MODIFIED:20260405T171056Z
UID:4022-1778094000-1778111940@pincitystl.com
SUMMARY:Atomic Pinball Arcade Spring League 2026
DESCRIPTION:Atomic Pinball Arcade Spring league 2026 will start on May 6th\, 2026 and will end on July 29th\, 2026. 2 weeks pre-play\, 10 weeks qualifying\, and one week of finals. Cost is $120/ person and includes free play entry for all 13 weeks. \nPinball Machines
URL:https://pincitystl.com/event/114177/
LOCATION:Atomic Pinball\, 102 N Whitelaw Ave\, Wood River\, 62095\, United States
ATTACH;FMTTYPE=image/webp:https://pincitystl.com/wp-content/uploads/2025/12/Atomic-Pinball-League.webp
END:VEVENT
END:VCALENDAR