BEGIN:VCALENDAR
VERSION:2.0
PRODID:-//Pin City STL - ECPv6.15.20//NONSGML v1.0//EN
CALSCALE:GREGORIAN
METHOD:PUBLISH
X-ORIGINAL-URL:https://pincitystl.com
X-WR-CALDESC:Events for Pin City STL
REFRESH-INTERVAL;VALUE=DURATION:PT1H
X-Robots-Tag:noindex
X-PUBLISHED-TTL:PT1H
BEGIN:VTIMEZONE
TZID:America/Chicago
BEGIN:DAYLIGHT
TZOFFSETFROM:-0600
TZOFFSETTO:-0500
TZNAME:CDT
DTSTART:20250309T080000
END:DAYLIGHT
BEGIN:STANDARD
TZOFFSETFROM:-0500
TZOFFSETTO:-0600
TZNAME:CST
DTSTART:20251102T070000
END:STANDARD
BEGIN:DAYLIGHT
TZOFFSETFROM:-0600
TZOFFSETTO:-0500
TZNAME:CDT
DTSTART:20260308T080000
END:DAYLIGHT
BEGIN:STANDARD
TZOFFSETFROM:-0500
TZOFFSETTO:-0600
TZNAME:CST
DTSTART:20261101T070000
END:STANDARD
BEGIN:DAYLIGHT
TZOFFSETFROM:-0600
TZOFFSETTO:-0500
TZNAME:CDT
DTSTART:20270314T080000
END:DAYLIGHT
BEGIN:STANDARD
TZOFFSETFROM:-0500
TZOFFSETTO:-0600
TZNAME:CST
DTSTART:20271107T070000
END:STANDARD
END:VTIMEZONE
BEGIN:VEVENT
DTSTART;TZID=America/Chicago:20260708T190000
DTEND;TZID=America/Chicago:20260708T235900
DTSTAMP:20260420T214621
CREATED:20251223T105326Z
LAST-MODIFIED:20260318T162355Z
UID:3255-1783537200-1783555140@pincitystl.com
SUMMARY:The Silver Ballroom League
DESCRIPTION:St. Louis’s original Wednesday Night League! Ten weeks of league play with playoffs and party Week 11 with dinner and free drinks.\n$41 for the season. 7:00 pm on Wednesdays. \nPinball Machines
URL:https://pincitystl.com/event/107572/
LOCATION:The Silver Ballroom\, 4701 Morgan Ford Road\, Saint Louis\, MO\, 63116\, United States
ATTACH;FMTTYPE=image/webp:https://pincitystl.com/wp-content/uploads/2025/12/The-Silver-Ballroom.webp
END:VEVENT
END:VCALENDAR