BEGIN:VCALENDAR
VERSION:2.0
PRODID:-//Pin City STL - ECPv6.15.20//NONSGML v1.0//EN
CALSCALE:GREGORIAN
METHOD:PUBLISH
X-ORIGINAL-URL:https://pincitystl.com
X-WR-CALDESC:Events for Pin City STL
REFRESH-INTERVAL;VALUE=DURATION:PT1H
X-Robots-Tag:noindex
X-PUBLISHED-TTL:PT1H
BEGIN:VTIMEZONE
TZID:America/Chicago
BEGIN:DAYLIGHT
TZOFFSETFROM:-0600
TZOFFSETTO:-0500
TZNAME:CDT
DTSTART:20250309T080000
END:DAYLIGHT
BEGIN:STANDARD
TZOFFSETFROM:-0500
TZOFFSETTO:-0600
TZNAME:CST
DTSTART:20251102T070000
END:STANDARD
BEGIN:DAYLIGHT
TZOFFSETFROM:-0600
TZOFFSETTO:-0500
TZNAME:CDT
DTSTART:20260308T080000
END:DAYLIGHT
BEGIN:STANDARD
TZOFFSETFROM:-0500
TZOFFSETTO:-0600
TZNAME:CST
DTSTART:20261101T070000
END:STANDARD
BEGIN:DAYLIGHT
TZOFFSETFROM:-0600
TZOFFSETTO:-0500
TZNAME:CDT
DTSTART:20270314T080000
END:DAYLIGHT
BEGIN:STANDARD
TZOFFSETFROM:-0500
TZOFFSETTO:-0600
TZNAME:CST
DTSTART:20271107T070000
END:STANDARD
END:VTIMEZONE
BEGIN:VEVENT
DTSTART;TZID=America/Chicago:20260731T190000
DTEND;TZID=America/Chicago:20260731T235900
DTSTAMP:20260420T220803
CREATED:20251227T020003Z
LAST-MODIFIED:20260318T162910Z
UID:3278-1785524400-1785542340@pincitystl.com
SUMMARY:Atomic Pinball Stern Army Last Friday Strikeout
DESCRIPTION:Atomic Pinball Arcade monthly Last Friday Strikeout. IFPA points awarded. 3 strikes\, Group Knockout tournament format. 2 strikes given in 4 player group and 1 strike given in a 3 player group. (0\,0\,1\,1)(0\,0\,1). \nDoors open at 5pm and tourney will start at 7:00pm. Cost is $20 per person and includes free play all night. \nPinball Machines
URL:https://pincitystl.com/event/108842/
LOCATION:Atomic Pinball\, 102 N Whitelaw Ave\, Wood River\, 62095\, United States
ATTACH;FMTTYPE=image/webp:https://pincitystl.com/wp-content/uploads/2025/12/Atomic-Pinball.webp
END:VEVENT
BEGIN:VEVENT
DTSTART;TZID=America/Chicago:20260828T190000
DTEND;TZID=America/Chicago:20260828T235900
DTSTAMP:20260420T220803
CREATED:20251227T020003Z
LAST-MODIFIED:20260318T162926Z
UID:3279-1787943600-1787961540@pincitystl.com
SUMMARY:Atomic Pinball Stern Army Last Friday Strikeout
DESCRIPTION:Atomic Pinball Arcade monthly Last Friday Strikeout. IFPA points awarded. 3 strikes\, Group Knockout tournament format. 2 strikes given in 4 player group and 1 strike given in a 3 player group. (0\,0\,1\,1)(0\,0\,1). \nDoors open at 5pm and tourney will start at 7:00pm. Cost is $20 per person and includes free play all night. \nPinball Machines
URL:https://pincitystl.com/event/108844/
LOCATION:Atomic Pinball\, 102 N Whitelaw Ave\, Wood River\, 62095\, United States
ATTACH;FMTTYPE=image/webp:https://pincitystl.com/wp-content/uploads/2025/12/Atomic-Pinball.webp
END:VEVENT
END:VCALENDAR