BEGIN:VCALENDAR
VERSION:2.0
PRODID:-//Pin City STL - ECPv6.15.20//NONSGML v1.0//EN
CALSCALE:GREGORIAN
METHOD:PUBLISH
X-WR-CALNAME:Pin City STL
X-ORIGINAL-URL:https://pincitystl.com
X-WR-CALDESC:Events for Pin City STL
REFRESH-INTERVAL;VALUE=DURATION:PT1H
X-Robots-Tag:noindex
X-PUBLISHED-TTL:PT1H
BEGIN:VTIMEZONE
TZID:America/Chicago
BEGIN:DAYLIGHT
TZOFFSETFROM:-0600
TZOFFSETTO:-0500
TZNAME:CDT
DTSTART:20250309T080000
END:DAYLIGHT
BEGIN:STANDARD
TZOFFSETFROM:-0500
TZOFFSETTO:-0600
TZNAME:CST
DTSTART:20251102T070000
END:STANDARD
BEGIN:DAYLIGHT
TZOFFSETFROM:-0600
TZOFFSETTO:-0500
TZNAME:CDT
DTSTART:20260308T080000
END:DAYLIGHT
BEGIN:STANDARD
TZOFFSETFROM:-0500
TZOFFSETTO:-0600
TZNAME:CST
DTSTART:20261101T070000
END:STANDARD
BEGIN:DAYLIGHT
TZOFFSETFROM:-0600
TZOFFSETTO:-0500
TZNAME:CDT
DTSTART:20270314T080000
END:DAYLIGHT
BEGIN:STANDARD
TZOFFSETFROM:-0500
TZOFFSETTO:-0600
TZNAME:CST
DTSTART:20271107T070000
END:STANDARD
END:VTIMEZONE
BEGIN:VEVENT
DTSTART;TZID=America/Chicago:20260308T130000
DTEND;TZID=America/Chicago:20260308T235900
DTSTAMP:20260420T184130
CREATED:20260207T020002Z
LAST-MODIFIED:20260217T172711Z
UID:3614-1772974800-1773014340@pincitystl.com
SUMMARY:#35 Turns 60!
DESCRIPTION:Hello! Please join us in celebrating the 60th birthday of John Miller\, co-founder of St. Louis Area Pinball\, on Sunday\, March 8\, 2026 at 2:00 p.m. at Murphy’s on 21. Doors open at 1:00 p.m. Of course\, in addition to the celebration\, there will be a sanctioned tournament in honor of IFPA #35 AKA as J.R. \nFormat will be ten rounds of Group Match Play qualifying (7\, 5\, 3\, 1 scoring in a four-player group and 7\, 4\, 1 scoring in a three-player group.) Pairings will be balanced. Depending upon turnout\, we hope to take at least the top eight to finals. Cost to enter the tournament is $10\, plus the typical $.75 per game/round for coin drop. \nAll entry fees will go back to the players in the form of cash prizes (minus the $1 IFPA fee for sanctioning the event.) There will also be attendance prizes given away! \nALL SKILL LEVELS ARE WELCOME TO JOIN. Minors are eligible to play in this sanctioned event\, but they must be accompanied by an adult. If you just feel like coming to hang out\, that’s fine too! \nThere will be snacks\, frozen pizza\, and John’s famous jerky available for sale at the bar. Other birthday snacks will also be provided. You are also welcome to bring in your own snacks/food or order delivery. \nNo pre-registration is required. If you have any questions\, please reach out to Valerie at vrader3180@gmail.com or message on Facebook Messenger. Hope to see y’all there. It’s going to be a blast!!! \nPinball Machines
URL:https://pincitystl.com/event/111464/
LOCATION:Murphy’s on 21\, 13226 Tesson Ferry Rd\, St. Louis\, 63128\, United States
ATTACH;FMTTYPE=image/jpeg:https://pincitystl.com/wp-content/uploads/2026/02/35-turns-60.jpg
END:VEVENT
BEGIN:VEVENT
DTSTART;TZID=America/Chicago:20260308T180000
DTEND;TZID=America/Chicago:20260308T235900
DTSTAMP:20260420T184130
CREATED:20260119T140102Z
LAST-MODIFIED:20260217T172723Z
UID:3498-1772992800-1773014340@pincitystl.com
SUMMARY:Murphy's Sunday Showdown 2026 Flipper Frenzy Wk 4
DESCRIPTION:Sunday Silverball Showdown Series 2026 at Murphy’s On 21!\n6pm Every Sunday Thur Mother’s Day! \n13 Total Weeks of IFPA Action! $10 Entry plus Coin-Drop (75¢ Games) \nEach week\, play a 2 hour Flipper Frenzy! Top players will go to a Matchplay finals to see who wins! Winner collects 16 points (2nd place gets 15 points\, and so on until 16th place gets 1 point) towards an Invitation-Only finals for the top 16 cumulative point collectors on May 17th\, 2026! \n100% of entry fee will go towards a Progressive Prize Pot to be awarded to the top 8 players in the May 17 finals. Murphy’s will be paying the IFPA entry fee for players. \nMaximum of 36 players each week\, all ages and skill levels welcome! \nPinball Machines
URL:https://pincitystl.com/event/110400/
LOCATION:Murphy’s on 21\, 13226 Tesson Ferry Rd\, St. Louis\, 63128\, United States
ATTACH;FMTTYPE=image/webp:https://pincitystl.com/wp-content/uploads/2026/01/Murphys-Silverball-Showdown.webp
END:VEVENT
END:VCALENDAR