BEGIN:VCALENDAR
VERSION:2.0
PRODID:-//Pin City STL - ECPv6.15.20//NONSGML v1.0//EN
CALSCALE:GREGORIAN
METHOD:PUBLISH
X-ORIGINAL-URL:https://pincitystl.com
X-WR-CALDESC:Events for Pin City STL
REFRESH-INTERVAL;VALUE=DURATION:PT1H
X-Robots-Tag:noindex
X-PUBLISHED-TTL:PT1H
BEGIN:VTIMEZONE
TZID:America/Chicago
BEGIN:DAYLIGHT
TZOFFSETFROM:-0600
TZOFFSETTO:-0500
TZNAME:CDT
DTSTART:20250309T080000
END:DAYLIGHT
BEGIN:STANDARD
TZOFFSETFROM:-0500
TZOFFSETTO:-0600
TZNAME:CST
DTSTART:20251102T070000
END:STANDARD
BEGIN:DAYLIGHT
TZOFFSETFROM:-0600
TZOFFSETTO:-0500
TZNAME:CDT
DTSTART:20260308T080000
END:DAYLIGHT
BEGIN:STANDARD
TZOFFSETFROM:-0500
TZOFFSETTO:-0600
TZNAME:CST
DTSTART:20261101T070000
END:STANDARD
BEGIN:DAYLIGHT
TZOFFSETFROM:-0600
TZOFFSETTO:-0500
TZNAME:CDT
DTSTART:20270314T080000
END:DAYLIGHT
BEGIN:STANDARD
TZOFFSETFROM:-0500
TZOFFSETTO:-0600
TZNAME:CST
DTSTART:20271107T070000
END:STANDARD
END:VTIMEZONE
BEGIN:VEVENT
DTSTART;TZID=America/Chicago:20260320T190000
DTEND;TZID=America/Chicago:20260320T235900
DTSTAMP:20260420T184511
CREATED:20260218T020003Z
LAST-MODIFIED:20260318T154755Z
UID:3658-1774033200-1774051140@pincitystl.com
SUMMARY:March Melee
DESCRIPTION:March Melee 2026 \n@Atomic Pinball Arcade – 102 Whitelaw Ave \, Wood River\, IL \nFriday – March 20th\, 2026 \nDoors Open: 5:00pm\nTourney Start: 7:00pm \nEntry: $20(admission to Atomic Arcade for the night\, entry into tourney is free). \nAll pinball machines on free play\, no coin drop required. \n-FORMAT- \nQualifying: Seven Matchplay Rounds using IFPA(7\,5\,3\,1) scoring\, tiered swiss pairings. The top 16 players in points after the qualifying concludes will advance to the March Melee finals bracket. Ties in point for last finals spot to be decided by one game playoff on a classics game. \nFinals: Similar to the NCAA basketball tournament\, the 16 players in the finals bracket will be seeded 1 through 16 based on their points earned in qualifying and compete in a head to head single elimination finals. Each head to head match be a best 2/3 match\, higher seed will have the choice of game or order in the first game\, with the losing player having choice on the next. \nTrophies to Top Three Finishers!! \nIFPA Sanctioned and for WPPR points \nNo pre-registration necessary! \nPlease contact Tyler Becker at pinballderby@gmail.com with any questions. \n-Past March Melee Champions- \n2021: Dan Sexauer\n2022: John Miller\n2023: Chuck Sanderson\n2024: Tyler Becker\n2025: John Miller \n***** \nMajor League Pinball Page: https://www.facebook.com/people/Major-League-Pinball/61554708144437/?_rdr \nPinball Machines
URL:https://pincitystl.com/event/111952/
LOCATION:Atomic Pinball\, 102 N Whitelaw Ave\, Wood River\, 62095\, United States
ATTACH;FMTTYPE=image/webp:https://pincitystl.com/wp-content/uploads/2026/02/FB_IMG_1773699627186.webp
END:VEVENT
END:VCALENDAR