BEGIN:VCALENDAR
VERSION:2.0
PRODID:-//Pin City STL - ECPv6.15.20//NONSGML v1.0//EN
CALSCALE:GREGORIAN
METHOD:PUBLISH
X-WR-CALNAME:Pin City STL
X-ORIGINAL-URL:https://pincitystl.com
X-WR-CALDESC:Events for Pin City STL
REFRESH-INTERVAL;VALUE=DURATION:PT1H
X-Robots-Tag:noindex
X-PUBLISHED-TTL:PT1H
BEGIN:VTIMEZONE
TZID:America/Chicago
BEGIN:DAYLIGHT
TZOFFSETFROM:-0600
TZOFFSETTO:-0500
TZNAME:CDT
DTSTART:20250309T080000
END:DAYLIGHT
BEGIN:STANDARD
TZOFFSETFROM:-0500
TZOFFSETTO:-0600
TZNAME:CST
DTSTART:20251102T070000
END:STANDARD
BEGIN:DAYLIGHT
TZOFFSETFROM:-0600
TZOFFSETTO:-0500
TZNAME:CDT
DTSTART:20260308T080000
END:DAYLIGHT
BEGIN:STANDARD
TZOFFSETFROM:-0500
TZOFFSETTO:-0600
TZNAME:CST
DTSTART:20261101T070000
END:STANDARD
BEGIN:DAYLIGHT
TZOFFSETFROM:-0600
TZOFFSETTO:-0500
TZNAME:CDT
DTSTART:20270314T080000
END:DAYLIGHT
BEGIN:STANDARD
TZOFFSETFROM:-0500
TZOFFSETTO:-0600
TZNAME:CST
DTSTART:20271107T070000
END:STANDARD
END:VTIMEZONE
BEGIN:VEVENT
DTSTART;TZID=America/Chicago:20260418T140000
DTEND;TZID=America/Chicago:20260418T235900
DTSTAMP:20260420T165545
CREATED:20260317T020004Z
LAST-MODIFIED:20260318T154708Z
UID:3880-1776520800-1776556740@pincitystl.com
SUMMARY:POKEMON Stern Army Launch Party - Murphy's
DESCRIPTION:Pokemon Stern Army Launch Party – Murphy’s \n@ Murphy’s on 21 – 13226 Tesson Ferry Rd\, St. Louis\, Missouri \nSaturday April 18th\, 2026 \nDoors Open: 1:30pm\nRegistration Start: 2:00pm\nTourney Start: 2:30pm \nEntry Fee: $20 (includes $10 Bounty for Payouts\, plus attendance prizes and additional bounties plus prizes to top three) All games on coin drop. \nIFPA Sanctioned and for WPPR Points \nTournament and Party to celebrate Stern’s newest pinball machine Pokemon!! There will be an attendance prizes\, Pokemon cards\, tournament with bounties\, and much more fun! \n-Tournament Format- \nFair Strikes: (0\,1\,1\,2) : (0\,1\,2) : (0\,2) Exact number of strikes (for elimination) based on turnout. Pokemon Pro Pinball will be a preferred arena\, and be the only arena when down to the final four or less. \nThe Grand Champion will receive the exclusive Pokemon Launch Party Championship Plaque provided by Stern. Additional cash prizes to be awarded (leftover pot after expenses). \nAll Skill Levels Welcome! \nNo Pre-Registration Required. \nPlease contact Tyler (pinballderby@gmail.com) with any questions you may have. \nFull bar will be open. \n—- \nPast Murphy’s Launch Party Champions \nJames Bond 007: Mike Howard \nFoo Fighters: Steve Smith \nVENOM: Carleton Plourde \nJAWS: John Miller \nJohn Wick: Carleton Plourde \nUncanny X-Men: Tyler Becker \nDungeons & Dragons: John Miller \nKing Kong: Bob Caldwell \nStar Wars FOTE: Dan Sexauer \nPokemon: (your name possibly here) \n—- \nFollow Major League Pinball on Facebook for more upcoming events !!! \nPinball Machines
URL:https://pincitystl.com/event/113572/
LOCATION:Murphy’s on 21\, 13226 Tesson Ferry Rd\, St. Louis\, 63128\, United States
ATTACH;FMTTYPE=image/webp:https://pincitystl.com/wp-content/uploads/2026/03/Pokemon_murph.webp
END:VEVENT
END:VCALENDAR