BEGIN:VCALENDAR
VERSION:2.0
PRODID:-//Pin City STL - ECPv6.15.20//NONSGML v1.0//EN
CALSCALE:GREGORIAN
METHOD:PUBLISH
X-ORIGINAL-URL:https://pincitystl.com
X-WR-CALDESC:Events for Pin City STL
REFRESH-INTERVAL;VALUE=DURATION:PT1H
X-Robots-Tag:noindex
X-PUBLISHED-TTL:PT1H
BEGIN:VTIMEZONE
TZID:America/Chicago
BEGIN:DAYLIGHT
TZOFFSETFROM:-0600
TZOFFSETTO:-0500
TZNAME:CDT
DTSTART:20250309T080000
END:DAYLIGHT
BEGIN:STANDARD
TZOFFSETFROM:-0500
TZOFFSETTO:-0600
TZNAME:CST
DTSTART:20251102T070000
END:STANDARD
BEGIN:DAYLIGHT
TZOFFSETFROM:-0600
TZOFFSETTO:-0500
TZNAME:CDT
DTSTART:20260308T080000
END:DAYLIGHT
BEGIN:STANDARD
TZOFFSETFROM:-0500
TZOFFSETTO:-0600
TZNAME:CST
DTSTART:20261101T070000
END:STANDARD
BEGIN:DAYLIGHT
TZOFFSETFROM:-0600
TZOFFSETTO:-0500
TZNAME:CDT
DTSTART:20270314T080000
END:DAYLIGHT
BEGIN:STANDARD
TZOFFSETFROM:-0500
TZOFFSETTO:-0600
TZNAME:CST
DTSTART:20271107T070000
END:STANDARD
END:VTIMEZONE
BEGIN:VEVENT
DTSTART;TZID=America/Chicago:20260710T180000
DTEND;TZID=America/Chicago:20260710T235900
DTSTAMP:20260420T201521
CREATED:20260411T020003Z
LAST-MODIFIED:20260416T133337Z
UID:4028-1783706400-1783727940@pincitystl.com
SUMMARY:STL Belles & Chimes Tropical Paradise Tournament
DESCRIPTION:Belles & Chimes STL in Partnership with Guerilla Pinball Present\nWhat: Belles & Chimes Tropical Paradise Tournament\nMissouri Women’s IFPA Sanctioned Tournament &Tropical Appetizer/Dessert Potluck \nJoin Belles & Chimes StL for a 2 hour matchplay tournament hosted at Guerilla Pinball. Matchplay will go for 2 hours followed by a PAPA style finals for at least the top 4 players depending on event attendance. \nWhen: Friday\, July 10th\, 2026 7PM\n(doors at 6:00 p.m.) \nSave your spot or ask questions by emailing\ninfo@bellesandchimesstl.com\nor let Kathryn Strinic / Kristin Machalek know if you plan on attending. \nAddress provided upon registration.
URL:https://pincitystl.com/event/114555/
LOCATION:Guerilla Pinball\, Saint Charles\, MO\, United States
ATTACH;FMTTYPE=image/webp:https://pincitystl.com/wp-content/uploads/2026/02/Belles-and-Chimes.webp
END:VEVENT
BEGIN:VEVENT
DTSTART;TZID=America/Chicago:20260711T130000
DTEND;TZID=America/Chicago:20260711T235900
DTSTAMP:20260420T201521
CREATED:20260411T020003Z
LAST-MODIFIED:20260416T132736Z
UID:4029-1783774800-1783814340@pincitystl.com
SUMMARY:Untitled 7/11 Pace Match Play
DESCRIPTION:Guerilla Pinball presents “Untitled 7/11 Pace Match Play” an Open Classics Pinball Tournament\nSt Charles\, Missouri \nJuly 11th\, 2026 \nDoors Open: 11:00am\nTournament at: 1:00pm \nIFPA Sanctioned and for WPPR Points. \nEntry Fee: $20 (all games on free play)\nTo register or for any additional info\, contact Guerilla Pinball (td@guerillapinball.com). Address provided upon registration. \n64 will be the max amount of players allowed. \n++ FORMAT ++ \n– Qualifying\nPace Matchplay format (7-5-3-1 scoring)\nPace: 30 points after 7 round\, increases by 5\n(players with less than 30 points eliminated after round 7\, <35 after round 8\, <40 after around 9\, etc) \n– Top 8 to Finals\nPAPA Finals w/3 games per round (4-2-1-0) \nAll players guaranteed at least 7 games of play. \nAwards for 1st\, 2nd\, and 3rd place finishers. \n** Pace subject to change depending on attendance. ** \nAdditional pinball machines and arcade games will be available to play as well. House has dogs if you’re allergic. All ages welcome. \nTo register or for any additional info\, contact Guerilla Pinball (td@guerillapinball.com).
URL:https://pincitystl.com/event/114544/
LOCATION:Guerilla Pinball\, Saint Charles\, MO\, United States
ATTACH;FMTTYPE=image/webp:https://pincitystl.com/wp-content/uploads/2026/04/guerilla_pinball.webp
END:VEVENT
BEGIN:VEVENT
DTSTART;TZID=America/Chicago:20260727T190000
DTEND;TZID=America/Chicago:20260727T235900
DTSTAMP:20260420T201521
CREATED:20251231T020003Z
LAST-MODIFIED:20260318T162604Z
UID:3302-1785178800-1785196740@pincitystl.com
SUMMARY:A Strikeout of their Own - Monthly Ladies Tournament
DESCRIPTION:Ladies only 3 strikes monthly tournament! Sign up starts at 6 pm\, tournament play starts at 7! $6 to play\, cash prizes!! \nPinball Machines
URL:https://pincitystl.com/event/109090/
LOCATION:The Waiting Room\, 10419 St. Charles Rock Rd\, St. Ann\, MO\, 63074\, United States
ATTACH;FMTTYPE=image/webp:https://pincitystl.com/wp-content/uploads/2026/01/Waiting-Room-strikeout-of-their-own.webp
END:VEVENT
END:VCALENDAR