BEGIN:VCALENDAR
VERSION:2.0
PRODID:-//Pin City STL - ECPv6.15.20//NONSGML v1.0//EN
CALSCALE:GREGORIAN
METHOD:PUBLISH
X-WR-CALNAME:Pin City STL
X-ORIGINAL-URL:https://pincitystl.com
X-WR-CALDESC:Events for Pin City STL
REFRESH-INTERVAL;VALUE=DURATION:PT1H
X-Robots-Tag:noindex
X-PUBLISHED-TTL:PT1H
BEGIN:VTIMEZONE
TZID:America/Chicago
BEGIN:DAYLIGHT
TZOFFSETFROM:-0600
TZOFFSETTO:-0500
TZNAME:CDT
DTSTART:20250309T080000
END:DAYLIGHT
BEGIN:STANDARD
TZOFFSETFROM:-0500
TZOFFSETTO:-0600
TZNAME:CST
DTSTART:20251102T070000
END:STANDARD
BEGIN:DAYLIGHT
TZOFFSETFROM:-0600
TZOFFSETTO:-0500
TZNAME:CDT
DTSTART:20260308T080000
END:DAYLIGHT
BEGIN:STANDARD
TZOFFSETFROM:-0500
TZOFFSETTO:-0600
TZNAME:CST
DTSTART:20261101T070000
END:STANDARD
BEGIN:DAYLIGHT
TZOFFSETFROM:-0600
TZOFFSETTO:-0500
TZNAME:CDT
DTSTART:20270314T080000
END:DAYLIGHT
BEGIN:STANDARD
TZOFFSETFROM:-0500
TZOFFSETTO:-0600
TZNAME:CST
DTSTART:20271107T070000
END:STANDARD
END:VTIMEZONE
BEGIN:VEVENT
DTSTART;TZID=America/Chicago:20260313T190000
DTEND;TZID=America/Chicago:20260313T235900
DTSTAMP:20260420T184148
CREATED:20260212T020003Z
LAST-MODIFIED:20260219T151148Z
UID:3617-1773428400-1773446340@pincitystl.com
SUMMARY:Silver Belles
DESCRIPTION:Join Belles and Chimes St. Louis for a 2 hour match play tournament at Kathryn’s house. Doors open at 6\, tournament starts at 7. Matchplay will go for two hours\, then a PAPA style Finals with the top 4. There will be a 2 day tournament at this location during the weekend\, so pinball machines will only be for tournament players. Please email info@bellesandchimesstl.com for location address or any other questions.
URL:https://pincitystl.com/event/111697/
LOCATION:Guerilla Pinball\, Saint Charles\, MO\, United States
ATTACH;FMTTYPE=image/jpeg:https://pincitystl.com/wp-content/uploads/2026/02/Belles-and-Chimes.jpg
END:VEVENT
END:VCALENDAR