BEGIN:VCALENDAR
VERSION:2.0
PRODID:-//Pin City STL - ECPv6.15.20//NONSGML v1.0//EN
CALSCALE:GREGORIAN
METHOD:PUBLISH
X-ORIGINAL-URL:https://pincitystl.com
X-WR-CALDESC:Events for Pin City STL
REFRESH-INTERVAL;VALUE=DURATION:PT1H
X-Robots-Tag:noindex
X-PUBLISHED-TTL:PT1H
BEGIN:VTIMEZONE
TZID:America/Chicago
BEGIN:DAYLIGHT
TZOFFSETFROM:-0600
TZOFFSETTO:-0500
TZNAME:CDT
DTSTART:20250309T080000
END:DAYLIGHT
BEGIN:STANDARD
TZOFFSETFROM:-0500
TZOFFSETTO:-0600
TZNAME:CST
DTSTART:20251102T070000
END:STANDARD
BEGIN:DAYLIGHT
TZOFFSETFROM:-0600
TZOFFSETTO:-0500
TZNAME:CDT
DTSTART:20260308T080000
END:DAYLIGHT
BEGIN:STANDARD
TZOFFSETFROM:-0500
TZOFFSETTO:-0600
TZNAME:CST
DTSTART:20261101T070000
END:STANDARD
BEGIN:DAYLIGHT
TZOFFSETFROM:-0600
TZOFFSETTO:-0500
TZNAME:CDT
DTSTART:20270314T080000
END:DAYLIGHT
BEGIN:STANDARD
TZOFFSETFROM:-0500
TZOFFSETTO:-0600
TZNAME:CST
DTSTART:20271107T070000
END:STANDARD
END:VTIMEZONE
BEGIN:VEVENT
DTSTART;TZID=America/Chicago:20260314T120000
DTEND;TZID=America/Chicago:20260315T235900
DTSTAMP:20260420T184544
CREATED:20260103T020003Z
LAST-MODIFIED:20260313T151324Z
UID:3407-1773489600-1773619140@pincitystl.com
SUMMARY:Silver Rush 2026
DESCRIPTION:Silver Rush 2026 – Pinball Tournament \n@ Guerilla Pinball – St. Charles\, MO (private venue\, exact address provided upon registration) \nMarch 14th: Target Matchplay Qualifying\nMarch 15th: Euro Finals \nIFPA Sanctioned and for WPPR Points (expected TGP = 200%) \nLimited to 68 Entrants \nTo register\, please secure ticket via Eventbrite (https://tinyurl.com/silverrush2026). Walk-ins will be allowed\, however walk-ins are not guaranteed a spot if we reach the player cap. Registration is allowed beginning on Saturday January 10th beginning at 11am CST \n-Format- \nSaturday Qualifying: Target Matchplay with (5\,3\,2\,1) Scoring. Once a player reaches 49 pts they earn a spot in finals on Sunday and do not continue playing in qualifying rounds. Rounds continue until all final spots are filled. Once all finals spots are filled\, anyone who didn’t reach the 49 pts target will be eliminated and their current standing will be their finishing position. The amount of players making finals will be based on total turnout and be announced before tournament start (likely between 16 and 32). \nSunday Finals: Euro Elimination Matchplay Bracket : Groups of Four\, 2 Advance from each group (Finish first in 2 games = advance \, finish last in 2 games = out. Play continues until 2 advance). \nThe survivor at the end of the bracket will be crowned the 2026 Silver Rush Champion and be awarded the *Silver Jacket*!!!!!! \nThe entire event will be LIVE STREAMED on Twitch thanks to Guerilla Pinball\nLink: https://www.twitch.tv/GuerillaPinball \n– \nEntry Fee: $40 (to be paid upon arrival on March 14th : Cash Only Please) \nIncludes full weekend access. Games will be set to free play. Entry fee broken down as $20 toward tourney/venue expenses and $20 toward Cash Pot. \nPayouts to Top Eight! Distributed as: \n1st: 30% of Pot + Trophy + Silver Jacket \n2nd: 22% of Pot + Trophy \n3rd: 16% of Pot + Trophy \n4th: 12% of Pot + Trophy \n5th – 8th: 5% of Pot \n* Weekend Schedule * \nSaturday March 14th \n12:00pm – Doors Open / Practice Begins \n2:00pm – Roll Call + Announcements \n2:05pm- Round One of Qualifying Begins. Players play each round until they individually reach 49 pts or all finals spots gets filled. No Practice on Tournament Games in-between rounds. \n6:00pm – Approximate start of meal break\, which will last about 45 mins from when the previous round ends. \n9:50pm – Approximate end of matchplay rounds for last qualifiers. Tiebreakers for final playoff spots to be played out on announced Game. \nSunday March 15th \n10:00am – Doors Open / Finals Practice begins. \n10:55am – Finals Practice Ends \n11:00am – Roll Call for finalists\, any finalist not present risks losing spot in finals. \n11:05am – Euro Matchplay Finals Bracket begins \n4:25pm – Approximate End of last Finals Round. \n4:30pm – Presentation of Silver Jacket and Podium Photos \n– \nPlease contact Tyler (pinballderby@gmail.com) with any questions regarding tournament. All skill levels welcomed and encouraged!! \nNote: Venue has dogs in case anyone is allergic. \nJoin Major League Pinball and Guerilla Pinball for the 2026 great Silver Rush!!! \n–Past Silver Jacket Wearers– \n2025: Kendell Holder
URL:https://pincitystl.com/event/109370/
LOCATION:Guerilla Pinball\, Saint Charles\, MO\, United States
ATTACH;FMTTYPE=image/webp:https://pincitystl.com/wp-content/uploads/2025/12/silver-rush-2026.webp
END:VEVENT
END:VCALENDAR