BEGIN:VCALENDAR
VERSION:2.0
PRODID:-//Pin City STL - ECPv6.15.20//NONSGML v1.0//EN
CALSCALE:GREGORIAN
METHOD:PUBLISH
X-ORIGINAL-URL:https://pincitystl.com
X-WR-CALDESC:Events for Pin City STL
REFRESH-INTERVAL;VALUE=DURATION:PT1H
X-Robots-Tag:noindex
X-PUBLISHED-TTL:PT1H
BEGIN:VTIMEZONE
TZID:America/Chicago
BEGIN:DAYLIGHT
TZOFFSETFROM:-0600
TZOFFSETTO:-0500
TZNAME:CDT
DTSTART:20250309T080000
END:DAYLIGHT
BEGIN:STANDARD
TZOFFSETFROM:-0500
TZOFFSETTO:-0600
TZNAME:CST
DTSTART:20251102T070000
END:STANDARD
BEGIN:DAYLIGHT
TZOFFSETFROM:-0600
TZOFFSETTO:-0500
TZNAME:CDT
DTSTART:20260308T080000
END:DAYLIGHT
BEGIN:STANDARD
TZOFFSETFROM:-0500
TZOFFSETTO:-0600
TZNAME:CST
DTSTART:20261101T070000
END:STANDARD
BEGIN:DAYLIGHT
TZOFFSETFROM:-0600
TZOFFSETTO:-0500
TZNAME:CDT
DTSTART:20270314T080000
END:DAYLIGHT
BEGIN:STANDARD
TZOFFSETFROM:-0500
TZOFFSETTO:-0600
TZNAME:CST
DTSTART:20271107T070000
END:STANDARD
END:VTIMEZONE
BEGIN:VEVENT
DTSTART;TZID=America/Chicago:20260411T170000
DTEND;TZID=America/Chicago:20260411T235900
DTSTAMP:20260420T164946
CREATED:20260227T020002Z
LAST-MODIFIED:20260318T154537Z
UID:3683-1775926800-1775951940@pincitystl.com
SUMMARY:Pokemon Launch Party
DESCRIPTION:Pokemon Launch Party\nThe Dive – Cottleville\nApril 11th @ 5pm\, Doors open at 4pm \n$10 entry fee plus $1 coin drop per machine\n8 rounds of matchplay (7\,5\,3\,1 scoring for 4 player group 7\,4\,1 scoring for 3 player group)\nTop 8 will advance to semi-finals and finals on Pokemon\, top 2 from each semi-final game will advance to finals\nTiebreaker will be played on random game to get into top 8\, otherwise ranking will be determined by strength of opponents\nWinner will win the Pokemon Launch Party plaque and the top 3 receive a cash prize
URL:https://pincitystl.com/event/112498/
LOCATION:MO
ATTACH;FMTTYPE=image/webp:https://pincitystl.com/wp-content/uploads/2026/03/Pokemon.webp
END:VEVENT
END:VCALENDAR