BEGIN:VCALENDAR
VERSION:2.0
PRODID:-//Pin City STL - ECPv6.15.20//NONSGML v1.0//EN
CALSCALE:GREGORIAN
METHOD:PUBLISH
X-ORIGINAL-URL:https://pincitystl.com
X-WR-CALDESC:Events for Pin City STL
REFRESH-INTERVAL;VALUE=DURATION:PT1H
X-Robots-Tag:noindex
X-PUBLISHED-TTL:PT1H
BEGIN:VTIMEZONE
TZID:America/Chicago
BEGIN:DAYLIGHT
TZOFFSETFROM:-0600
TZOFFSETTO:-0500
TZNAME:CDT
DTSTART:20250309T080000
END:DAYLIGHT
BEGIN:STANDARD
TZOFFSETFROM:-0500
TZOFFSETTO:-0600
TZNAME:CST
DTSTART:20251102T070000
END:STANDARD
BEGIN:DAYLIGHT
TZOFFSETFROM:-0600
TZOFFSETTO:-0500
TZNAME:CDT
DTSTART:20260308T080000
END:DAYLIGHT
BEGIN:STANDARD
TZOFFSETFROM:-0500
TZOFFSETTO:-0600
TZNAME:CST
DTSTART:20261101T070000
END:STANDARD
BEGIN:DAYLIGHT
TZOFFSETFROM:-0600
TZOFFSETTO:-0500
TZNAME:CDT
DTSTART:20270314T080000
END:DAYLIGHT
BEGIN:STANDARD
TZOFFSETFROM:-0500
TZOFFSETTO:-0600
TZNAME:CST
DTSTART:20271107T070000
END:STANDARD
END:VTIMEZONE
BEGIN:VEVENT
DTSTART;TZID=America/Chicago:20260313T190000
DTEND;TZID=America/Chicago:20260313T235900
DTSTAMP:20260420T171119
CREATED:20260212T020003Z
LAST-MODIFIED:20260219T151148Z
UID:3617-1773428400-1773446340@pincitystl.com
SUMMARY:Silver Belles
DESCRIPTION:Join Belles and Chimes St. Louis for a 2 hour match play tournament at Kathryn’s house. Doors open at 6\, tournament starts at 7. Matchplay will go for two hours\, then a PAPA style Finals with the top 4. There will be a 2 day tournament at this location during the weekend\, so pinball machines will only be for tournament players. Please email info@bellesandchimesstl.com for location address or any other questions.
URL:https://pincitystl.com/event/111697/
LOCATION:Guerilla Pinball\, Saint Charles\, MO\, United States
ATTACH;FMTTYPE=image/jpeg:https://pincitystl.com/wp-content/uploads/2026/02/Belles-and-Chimes.jpg
END:VEVENT
BEGIN:VEVENT
DTSTART;TZID=America/Chicago:20260322T130000
DTEND;TZID=America/Chicago:20260322T235900
DTSTAMP:20260420T171119
CREATED:20260222T020003Z
LAST-MODIFIED:20260318T154839Z
UID:3664-1774184400-1774223940@pincitystl.com
SUMMARY:Bitches Gone Wild - Spring Break 2026
DESCRIPTION:Doors at 12:30\, tournament at 1. \n7 strike knockout; no finals. 0/1/1/2 for 4 player groups\, 0/1/2 for 3 player groups. \nPinball Machines
URL:https://pincitystl.com/event/112168/
LOCATION:The Waiting Room\, 10419 St. Charles Rock Rd\, St. Ann\, MO\, 63074\, United States
ATTACH;FMTTYPE=image/jpeg:https://pincitystl.com/wp-content/uploads/2026/02/bitches-gone-wild-1.jpg
END:VEVENT
BEGIN:VEVENT
DTSTART;TZID=America/Chicago:20260330T190000
DTEND;TZID=America/Chicago:20260330T235900
DTSTAMP:20260420T171119
CREATED:20251231T020003Z
LAST-MODIFIED:20260318T155345Z
UID:3298-1774897200-1774915140@pincitystl.com
SUMMARY:A Strikeout of their Own - Monthly Ladies Tournament
DESCRIPTION:Ladies only 3 strikes monthly tournament! Sign up starts at 6 pm\, tournament play starts at 7! $6 to play\, cash prizes!! \nPinball Machines
URL:https://pincitystl.com/event/109086/
LOCATION:The Waiting Room\, 10419 St. Charles Rock Rd\, St. Ann\, MO\, 63074\, United States
ATTACH;FMTTYPE=image/webp:https://pincitystl.com/wp-content/uploads/2026/01/Waiting-Room-strikeout-of-their-own.webp
END:VEVENT
END:VCALENDAR